BEGIN:VCALENDAR
VERSION:2.0
PRODID:-//Focales
CALSCALE:GREGORIAN
METHOD:PUBLISH
X-WR-CALNAME:Focales
X-ORIGINAL-URL:https://focales.org/cine-rencontre-le-char-et-lolivier/
X-WR-CALDESC:CINÉ-RENCONTRE &#8211; LE CHAR ET L’OLIVIER
BEGIN:VEVENT
DTSTART:20200107T200000
DTEND:20200107T220000
SUMMARY:CINÉ-RENCONTRE &#8211; LE CHAR ET L’OLIVIER
DESCRIPTION:
LOCATION:178 Rue sous les Vignes, 63100 Clermont-Ferrand
END:VEVENT
END:VCALENDAR
