BEGIN:VCALENDAR
VERSION:2.0
PRODID:-//Focales
CALSCALE:GREGORIAN
METHOD:PUBLISH
X-WR-CALNAME:Focales
X-ORIGINAL-URL:https://focales.org/coup-de-coeur-2020-le-court-metrage-allemand/
X-WR-CALDESC:COUP DE CŒUR 2020 &#8211; LE COURT MÉTRAGE ALLEMAND
BEGIN:VEVENT
DTSTART:20200205T090000
DTEND:20200205T103000
SUMMARY:COUP DE CŒUR 2020 &#8211; LE COURT MÉTRAGE ALLEMAND
DESCRIPTION:
LOCATION:Rue Léo Lagrange, 63000 Clermont-Ferrand
END:VEVENT
END:VCALENDAR
