BEGIN:VCALENDAR
VERSION:2.0
PRODID:-//Focales
CALSCALE:GREGORIAN
METHOD:PUBLISH
X-WR-CALNAME:Focales
X-ORIGINAL-URL:https://focales.org/prix-eveil-a-la-citoyennete-2020/
X-WR-CALDESC:PRIX ÉVEIL À LA CITOYENNETÉ 2020
BEGIN:VEVENT
DTSTART:20200527T000000
DTEND:20200527T000000
SUMMARY:PRIX ÉVEIL À LA CITOYENNETÉ 2020
DESCRIPTION:
LOCATION:
END:VEVENT
END:VCALENDAR
