BEGIN:VCALENDAR
VERSION:2.0
PRODID:-//Focales
CALSCALE:GREGORIAN
METHOD:PUBLISH
X-WR-CALNAME:Focales
X-ORIGINAL-URL:https://focales.org/nuit-de-la-lecture/
X-WR-CALDESC:NUIT DE LA LECTURE
BEGIN:VEVENT
DTSTART:20200118T170000
DTEND:20200118T000000
SUMMARY:NUIT DE LA LECTURE
DESCRIPTION:
LOCATION:6 Place Michel-de-l'Hospital, 63058 Clermont-Ferrand
END:VEVENT
END:VCALENDAR
