BEGIN:VCALENDAR
VERSION:2.0
PRODID:-//Focales
CALSCALE:GREGORIAN
METHOD:PUBLISH
X-WR-CALNAME:Focales
X-ORIGINAL-URL:https://focales.org/conference-sur-le-jeu-video-varsaw-histoire-ou-memoire/
X-WR-CALDESC:CONFÉRENCE SUR LE JEU-VIDÉO VARSAW : HISTOIRE OU MÉMOIRE ?
BEGIN:VEVENT
DTSTART:20200122T180000
DTEND:20200122T220000
SUMMARY:CONFÉRENCE SUR LE JEU-VIDÉO VARSAW : HISTOIRE OU MÉMOIRE ?
DESCRIPTION:
LOCATION:29 Boulevard Gergovia 63000 Clermont-Ferrand
END:VEVENT
END:VCALENDAR
