BEGIN:VCALENDAR
VERSION:2.0
PRODID:-//Focales
CALSCALE:GREGORIAN
METHOD:PUBLISH
X-WR-CALNAME:Focales
X-ORIGINAL-URL:https://focales.org/courts-particuliers-estate/
X-WR-CALDESC:COURTS PARTICULIERS : ESTATE
BEGIN:VEVENT
DTSTART:20200218T183000
DTEND:20200218T193000
SUMMARY:COURTS PARTICULIERS : ESTATE
DESCRIPTION:
LOCATION:6 place Michel-de-l'Hospital 63058 Clermont-Ferrand
END:VEVENT
END:VCALENDAR
