BEGIN:VCALENDAR
VERSION:2.0
PRODID:-//Focales
CALSCALE:GREGORIAN
METHOD:PUBLISH
X-WR-CALNAME:Focales
X-ORIGINAL-URL:https://focales.org/masterclass-de-ali-essafi-et-seumboy-vrainom-e/
X-WR-CALDESC:MASTERCLASS DE ALI ESSAFI ET SEUMBOY VRAINOM :€
BEGIN:VEVENT
DTSTART:20200203T133000
DTEND:20200203T150000
SUMMARY:MASTERCLASS DE ALI ESSAFI ET SEUMBOY VRAINOM :€
DESCRIPTION:
LOCATION:25 rue Kessler, 63000 Clermont-Ferrand
END:VEVENT
END:VCALENDAR
