BEGIN:VCALENDAR
VERSION:2.0
PRODID:-//Focales
CALSCALE:GREGORIAN
METHOD:PUBLISH
X-WR-CALNAME:Focales
X-ORIGINAL-URL:https://focales.org/morts-par-la-france-en-presence-de-son-realisateur/
X-WR-CALDESC:MORTS PAR LA FRANCE &#8211; EN PRÉSENCE DE SON RÉALISATEUR
BEGIN:VEVENT
DTSTART:20200213T200000
DTEND:20200213T213000
SUMMARY:MORTS PAR LA FRANCE &#8211; EN PRÉSENCE DE SON RÉALISATEUR
DESCRIPTION:
LOCATION:178 rue Sous les Vignes Clermont-Ferrand, 63100 France 
END:VEVENT
END:VCALENDAR
