BEGIN:VCALENDAR
VERSION:2.0
PRODID:-//Focales
CALSCALE:GREGORIAN
METHOD:PUBLISH
X-WR-CALNAME:Focales
X-ORIGINAL-URL:https://focales.org/atelier-pop-hop-le-film-noir/
X-WR-CALDESC:ATELIER POP-HOP &#8211; LE FILM NOIR
BEGIN:VEVENT
DTSTART:20200224T140000
DTEND:20200224T170000
SUMMARY:ATELIER POP-HOP &#8211; LE FILM NOIR
DESCRIPTION:
LOCATION:6 Place Michel-de-l'Hospital, 63058 Clermont-Ferrand
END:VEVENT
END:VCALENDAR
