BEGIN:VCALENDAR
VERSION:2.0
PRODID:-//Focales
CALSCALE:GREGORIAN
METHOD:PUBLISH
X-WR-CALNAME:Focales
X-ORIGINAL-URL:https://focales.org/cine-conference-la-place-des-femmes-dans-le-cinema/
X-WR-CALDESC:CINÉ-CONFÉRENCE : LA PLACE DES FEMMES DANS LE CINÉMA
BEGIN:VEVENT
DTSTART:20200219T133000
DTEND:20200219T150000
SUMMARY:CINÉ-CONFÉRENCE : LA PLACE DES FEMMES DANS LE CINÉMA
DESCRIPTION:
LOCATION: 178 rue Sous les Vignes Clermont-Ferrand, 63100 France 
END:VEVENT
END:VCALENDAR
