BEGIN:VCALENDAR
VERSION:2.0
PRODID:-//Focales
CALSCALE:GREGORIAN
METHOD:PUBLISH
X-WR-CALNAME:Focales
X-ORIGINAL-URL:https://focales.org/cine-concert-metropolis/
X-WR-CALDESC:CINÉ-CONCERT MÉTROPOLIS
BEGIN:VEVENT
DTSTART:20150711T214500
DTEND:20150712T003000
SUMMARY:CINÉ-CONCERT MÉTROPOLIS
DESCRIPTION:
LOCATION:Clermont-Ferrand, Place de la Victoire
END:VEVENT
END:VCALENDAR
