BEGIN:VCALENDAR
VERSION:2.0
PRODID:-//Focales
CALSCALE:GREGORIAN
METHOD:PUBLISH
X-WR-CALNAME:Focales
X-ORIGINAL-URL:https://focales.org/fais-soin-de-toi-rencontre-avec-le-realisateur/
X-WR-CALDESC:FAIS SOIN DE TOI – RENCONTRE AVEC LE RÉALISATEUR
BEGIN:VEVENT
DTSTART:20200222T200000
DTEND:20200222T230000
SUMMARY:FAIS SOIN DE TOI – RENCONTRE AVEC LE RÉALISATEUR
DESCRIPTION:
LOCATION: 178 rue Sous les Vignes Clermont-Ferrand, 63100 France 
END:VEVENT
END:VCALENDAR
