BEGIN:VCALENDAR
VERSION:2.0
PRODID:-//Focales
CALSCALE:GREGORIAN
METHOD:PUBLISH
X-WR-CALNAME:Focales
X-ORIGINAL-URL:https://focales.org/creation-en-cours-appel-a-projet/
X-WR-CALDESC:CRÉATION EN COURS &#8211; APPEL À PROJET
BEGIN:VEVENT
DTSTART:20200520T234500
DTEND:20200520T234500
SUMMARY:CRÉATION EN COURS &#8211; APPEL À PROJET
DESCRIPTION:
LOCATION:
END:VEVENT
END:VCALENDAR
