BEGIN:VCALENDAR
VERSION:2.0
PRODID:-//Focales
CALSCALE:GREGORIAN
METHOD:PUBLISH
X-WR-CALNAME:Focales
X-ORIGINAL-URL:https://focales.org/les-ptits-reals-animation-a-la-maison/
X-WR-CALDESC:LES P&rsquo;TITS RÉALS &#8211; ANIMATION À LA MAISON
BEGIN:VEVENT
DTSTART:20200705T234500
DTEND:20200705T234500
SUMMARY:LES P&rsquo;TITS RÉALS &#8211; ANIMATION À LA MAISON
DESCRIPTION:
LOCATION: La Jetée, 6 Place Michel-de-l'Hospital, 63058 Clermont-Ferrand
END:VEVENT
END:VCALENDAR
