BEGIN:VCALENDAR
VERSION:2.0
PRODID:-//Focales
CALSCALE:GREGORIAN
METHOD:PUBLISH
X-WR-CALNAME:Focales
X-ORIGINAL-URL:https://focales.org/espace-reve-reve-despaces/
X-WR-CALDESC:ESPACE RÊVÉ &#8211; RÊVE D&rsquo;ESPACE(S)
BEGIN:VEVENT
DTSTART:20200610T000000
DTEND:20200610T000000
SUMMARY:ESPACE RÊVÉ &#8211; RÊVE D&rsquo;ESPACE(S)
DESCRIPTION:
LOCATION: La Jetée, 6 Place Michel-de-l'Hospital, 63058 Clermont-Ferrand
END:VEVENT
END:VCALENDAR
