BEGIN:VCALENDAR
VERSION:2.0
PRODID:-//Focales
CALSCALE:GREGORIAN
METHOD:PUBLISH
X-WR-CALNAME:Focales
X-ORIGINAL-URL:https://focales.org/formation-que-la-bete-meure/
X-WR-CALDESC:FORMATION &#8211; QUE LA BÊTE MEURE
BEGIN:VEVENT
DTSTART:20201216T140000
DTEND:20201216T170000
SUMMARY:FORMATION &#8211; QUE LA BÊTE MEURE
DESCRIPTION:
LOCATION:6 Place Michel-de-l'Hospital, 63058 Clermont-Ferrand
END:VEVENT
END:VCALENDAR
