BEGIN:VCALENDAR
VERSION:2.0
PRODID:-//Focales
CALSCALE:GREGORIAN
METHOD:PUBLISH
X-WR-CALNAME:Focales
X-ORIGINAL-URL:https://focales.org/festival-plein-la-bobine-2020/
X-WR-CALDESC:FESTIVAL PLEIN LA BOBINE 2020
BEGIN:VEVENT
DTSTART:20200914T000000
DTEND:20201107T000000
SUMMARY:FESTIVAL PLEIN LA BOBINE 2020
DESCRIPTION:
LOCATION:
END:VEVENT
END:VCALENDAR
