BEGIN:VCALENDAR
VERSION:2.0
PRODID:-//Focales
CALSCALE:GREGORIAN
METHOD:PUBLISH
X-WR-CALNAME:Focales
X-ORIGINAL-URL:https://focales.org/formation-preac-realite-augmentee/
X-WR-CALDESC:FORMATION PREAC SUR LA REALITE AUGMENTEE
BEGIN:VEVENT
DTSTART:20210331T091500
DTEND:20210401T113000
SUMMARY:FORMATION PREAC SUR LA REALITE AUGMENTEE
DESCRIPTION:
LOCATION:La jetée, 6 place michel-de-l'hospital, 63058 Clermont-Ferrand
END:VEVENT
END:VCALENDAR
