BEGIN:VCALENDAR
VERSION:2.0
PRODID:-//Focales
CALSCALE:GREGORIAN
METHOD:PUBLISH
X-WR-CALNAME:Focales
X-ORIGINAL-URL:https://focales.org/rencontres-regionales-de-leducation-a-limage-en-rhone-alpes-2/
X-WR-CALDESC:RENCONTRES RÉGIONALES DE L&rsquo;ÉDUCATION À L&rsquo;IMAGE EN AUVERGNE-RHÔNE-ALPES
BEGIN:VEVENT
DTSTART:20210107T000000
DTEND:20210107T000000
SUMMARY:RENCONTRES RÉGIONALES DE L&rsquo;ÉDUCATION À L&rsquo;IMAGE EN AUVERGNE-RHÔNE-ALPES
DESCRIPTION:
LOCATION:LUX Scène nationale 36 Bd du Général de Gaulle 26000 Valence
END:VEVENT
END:VCALENDAR
