BEGIN:VCALENDAR
VERSION:2.0
PRODID:-//Focales
CALSCALE:GREGORIAN
METHOD:PUBLISH
X-WR-CALNAME:Focales
X-ORIGINAL-URL:https://focales.org/cite-de-tous-les-talents-parcours-cinema-inscription-2/
X-WR-CALDESC:CITÉ DE TOUS LES TALENTS &#8211; PARCOURS CINÉMA &#8211; INSCRIPTIONS 2021
BEGIN:VEVENT
DTSTART:20210315T000000
DTEND:20210315T000000
SUMMARY:CITÉ DE TOUS LES TALENTS &#8211; PARCOURS CINÉMA &#8211; INSCRIPTIONS 2021
DESCRIPTION:
LOCATION:6 Place Michel-de-l'Hospital, 63058 Clermont-Ferrand
END:VEVENT
END:VCALENDAR
