BEGIN:VCALENDAR
VERSION:2.0
PRODID:-//Focales
CALSCALE:GREGORIAN
METHOD:PUBLISH
X-WR-CALNAME:Focales
X-ORIGINAL-URL:https://focales.org/concours-moteur/
X-WR-CALDESC:CONCOURS « MOTEUR ! »
BEGIN:VEVENT
DTSTART:20210208T000000
DTEND:20210402T000000
SUMMARY:CONCOURS « MOTEUR ! »
DESCRIPTION:
LOCATION:
END:VEVENT
END:VCALENDAR
