BEGIN:VCALENDAR
VERSION:2.0
PRODID:-//Focales
CALSCALE:GREGORIAN
METHOD:PUBLISH
X-WR-CALNAME:Focales
X-ORIGINAL-URL:https://focales.org/residence-decriture-et-ou-realisation-cinema-du-festival-plein-la-bobine-2021-2022/
X-WR-CALDESC:Résidence d’écriture et/ou réalisation cinéma du festival Plein la Bobine 2021 &#8211; 2022
BEGIN:VEVENT
DTSTART:20210302T000000
DTEND:20210531T234500
SUMMARY:Résidence d’écriture et/ou réalisation cinéma du festival Plein la Bobine 2021 &#8211; 2022
DESCRIPTION:
LOCATION:plein la bobine, hotel de ville, 63150 la bourboule
END:VEVENT
END:VCALENDAR
