BEGIN:VCALENDAR
VERSION:2.0
PRODID:-//Focales
CALSCALE:GREGORIAN
METHOD:PUBLISH
X-WR-CALNAME:Focales
X-ORIGINAL-URL:https://focales.org/4e-residence-ecriture-de-scenario-2/
X-WR-CALDESC:6E RÉSIDENCE  D&rsquo;ECRITURE DE SCÉNARIO
BEGIN:VEVENT
DTSTART:20210308T090000
DTEND:20210409T180000
SUMMARY:6E RÉSIDENCE  D&rsquo;ECRITURE DE SCÉNARIO
DESCRIPTION:
LOCATION:https://www.google.fr/maps/place/ENSACF+Ecole+Nationale+Supérieure+d'Architecture/@45.801459,3.1011663,17z/data=!3m1!4b1!4m5!3m4!1s0x47f71beb4fa610d5:0x9f9538d41c9092e8!8m2!3d45.801459!4d3.103355?dcr=0
END:VEVENT
END:VCALENDAR
