BEGIN:VCALENDAR
VERSION:2.0
PRODID:-//Focales
CALSCALE:GREGORIAN
METHOD:PUBLISH
X-WR-CALNAME:Focales
X-ORIGINAL-URL:https://focales.org/seance-en-ligne/
X-WR-CALDESC:SÉANCES EN LIGNE DE COURTS MÉTRAGES
BEGIN:VEVENT
DTSTART:20210504T000000
DTEND:20210901T000000
SUMMARY:SÉANCES EN LIGNE DE COURTS MÉTRAGES
DESCRIPTION:
LOCATION:
END:VEVENT
END:VCALENDAR
