BEGIN:VCALENDAR
VERSION:2.0
PRODID:-//Focales
CALSCALE:GREGORIAN
METHOD:PUBLISH
X-WR-CALNAME:Focales
X-ORIGINAL-URL:https://focales.org/formation-college-au-cinema-mai-2021/
X-WR-CALDESC:FORMATION COLLÈGE AU CINÉMA &#8211; PUY DE DÔME
BEGIN:VEVENT
DTSTART:20210519T090000
DTEND:20210519T120000
SUMMARY:FORMATION COLLÈGE AU CINÉMA &#8211; PUY DE DÔME
DESCRIPTION:
LOCATION:
END:VEVENT
END:VCALENDAR
