BEGIN:VCALENDAR
VERSION:2.0
PRODID:-//Focales
CALSCALE:GREGORIAN
METHOD:PUBLISH
X-WR-CALNAME:Focales
X-ORIGINAL-URL:https://focales.org/appel-a-projet-prendre-lair-du-temps/
X-WR-CALDESC:APPEL À PROJET &#8211; PRENDRE L&rsquo;AIR (DU TEMPS)
BEGIN:VEVENT
DTSTART:20210510T000000
DTEND:20210521T234500
SUMMARY:APPEL À PROJET &#8211; PRENDRE L&rsquo;AIR (DU TEMPS)
DESCRIPTION:
LOCATION:Auvergne-Rhône-Alpes
END:VEVENT
END:VCALENDAR
