BEGIN:VCALENDAR
VERSION:2.0
PRODID:-//Focales
CALSCALE:GREGORIAN
METHOD:PUBLISH
X-WR-CALNAME:Focales
X-ORIGINAL-URL:https://focales.org/missions-de-service-civique-uniscite/
X-WR-CALDESC:MISSIONS DE SERVICE CIVIQUE &#8211; UNIS-CITÉ
BEGIN:VEVENT
DTSTART:20210512T000000
DTEND:20210930T000000
SUMMARY:MISSIONS DE SERVICE CIVIQUE &#8211; UNIS-CITÉ
DESCRIPTION:
LOCATION:19 rue de la coste, 15000 Aurillac
END:VEVENT
END:VCALENDAR
