BEGIN:VCALENDAR
VERSION:2.0
PRODID:-//Focales
CALSCALE:GREGORIAN
METHOD:PUBLISH
X-WR-CALNAME:Focales
X-ORIGINAL-URL:https://focales.org/avant-premiere-du-festival-plein-la-bobine/
X-WR-CALDESC:AVANT PREMIÈRE DU FESTIVAL PLEIN LA BOBINE
BEGIN:VEVENT
DTSTART:20210526T180000
DTEND:20210526T210000
SUMMARY:AVANT PREMIÈRE DU FESTIVAL PLEIN LA BOBINE
DESCRIPTION:
LOCATION:6, place Michel de l’Hospital 63000 Clermont-Ferrand
END:VEVENT
END:VCALENDAR
