BEGIN:VCALENDAR
VERSION:2.0
PRODID:-//Focales
CALSCALE:GREGORIAN
METHOD:PUBLISH
X-WR-CALNAME:Focales
X-ORIGINAL-URL:https://focales.org/appel-a-projets-education-artistique-et-culturelle/
X-WR-CALDESC:APPEL À PROJETS &#8211; EDUCATION ARTISTIQUE ET CULTURELLE
BEGIN:VEVENT
DTSTART:20210518T000000
DTEND:20210917T000000
SUMMARY:APPEL À PROJETS &#8211; EDUCATION ARTISTIQUE ET CULTURELLE
DESCRIPTION:
LOCATION:
END:VEVENT
END:VCALENDAR
