BEGIN:VCALENDAR
VERSION:2.0
PRODID:-//Focales
CALSCALE:GREGORIAN
METHOD:PUBLISH
X-WR-CALNAME:Focales
X-ORIGINAL-URL:https://focales.org/videobar-84-mue/
X-WR-CALDESC:VIDEOBAR #84 &#8211; « Mue »
BEGIN:VEVENT
DTSTART:20210527T183000
DTEND:20210530T190000
SUMMARY:VIDEOBAR #84 &#8211; « Mue »
DESCRIPTION:
LOCATION:14 rue de l'Oratoire, 63000 Clermont-Ferrand
END:VEVENT
END:VCALENDAR
