BEGIN:VCALENDAR
VERSION:2.0
PRODID:-//Focales
CALSCALE:GREGORIAN
METHOD:PUBLISH
X-WR-CALNAME:Focales
X-ORIGINAL-URL:https://focales.org/dessiner-le-cinema-exposition/
X-WR-CALDESC:DESSINER LE CINÉMA &#8211; EXPOSITION
BEGIN:VEVENT
DTSTART:20210604T140000
DTEND:20210710T190000
SUMMARY:DESSINER LE CINÉMA &#8211; EXPOSITION
DESCRIPTION:
LOCATION:3 rue du Maréchal Joffre, 63000 Clermont-Ferrand
END:VEVENT
END:VCALENDAR
