BEGIN:VCALENDAR
VERSION:2.0
PRODID:-//Focales
CALSCALE:GREGORIAN
METHOD:PUBLISH
X-WR-CALNAME:Focales
X-ORIGINAL-URL:https://focales.org/formation-jeune-public-2021/
X-WR-CALDESC:Formation Jeune Public 2021
BEGIN:VEVENT
DTSTART:20210701T093000
DTEND:20210701T173000
SUMMARY:Formation Jeune Public 2021
DESCRIPTION:
LOCATION:cinéma le rio 178 rue sous les vignes
END:VEVENT
END:VCALENDAR
