BEGIN:VCALENDAR
VERSION:2.0
PRODID:-//Focales
CALSCALE:GREGORIAN
METHOD:PUBLISH
X-WR-CALNAME:Focales
X-ORIGINAL-URL:https://focales.org/archives-et-cinema-vins-dauvergne/
X-WR-CALDESC:Archives et cinéma &#8211; Vins d&rsquo;Auvergne
BEGIN:VEVENT
DTSTART:20210826T210000
DTEND:20210826T230000
SUMMARY:Archives et cinéma &#8211; Vins d&rsquo;Auvergne
DESCRIPTION:
LOCATION:Musée régional d'Auvergne Riom
END:VEVENT
END:VCALENDAR
