BEGIN:VCALENDAR
VERSION:2.0
PRODID:-//Focales
CALSCALE:GREGORIAN
METHOD:PUBLISH
X-WR-CALNAME:Focales
X-ORIGINAL-URL:https://focales.org/ecole-et-cinema-63-lhomme-qui-plantait-des-arbres-de-frederick-back/
X-WR-CALDESC:ECOLE ET CINEMA  63 &#8211; L&rsquo;HOMME QUI PLANTAIT DES ARBRES DE FREDERICK BACK
BEGIN:VEVENT
DTSTART:20211006T133000
DTEND:20211006T163000
SUMMARY:ECOLE ET CINEMA  63 &#8211; L&rsquo;HOMME QUI PLANTAIT DES ARBRES DE FREDERICK BACK
DESCRIPTION:
LOCATION:Clermont-Ferrand, La Jetée
END:VEVENT
END:VCALENDAR
