BEGIN:VCALENDAR
VERSION:2.0
PRODID:-//Focales
CALSCALE:GREGORIAN
METHOD:PUBLISH
X-WR-CALNAME:Focales
X-ORIGINAL-URL:https://focales.org/le-cine-concert-de-anne-brugni-et-mccloud-zicmuse/
X-WR-CALDESC:Le ciné-concert de Anne Brugni et McCloud Zicmuse
BEGIN:VEVENT
DTSTART:20210912T093000
DTEND:20210912T120000
SUMMARY:Le ciné-concert de Anne Brugni et McCloud Zicmuse
DESCRIPTION:
LOCATION:La Jetée Clermont-Ferrand
END:VEVENT
END:VCALENDAR
