BEGIN:VCALENDAR
VERSION:2.0
PRODID:-//Focales
CALSCALE:GREGORIAN
METHOD:PUBLISH
X-WR-CALNAME:Focales
X-ORIGINAL-URL:https://focales.org/cine-concert-le-chant-du-cygne/
X-WR-CALDESC:CINE-CONCERT LE CHANT DU CYGNE
BEGIN:VEVENT
DTSTART:20210909T210000
DTEND:20210909T220000
SUMMARY:CINE-CONCERT LE CHANT DU CYGNE
DESCRIPTION:
LOCATION:cinéma le Rio, Clermont-Ferrand
END:VEVENT
END:VCALENDAR
