BEGIN:VCALENDAR
VERSION:2.0
PRODID:-//Focales
CALSCALE:GREGORIAN
METHOD:PUBLISH
X-WR-CALNAME:Focales
X-ORIGINAL-URL:https://focales.org/leur-algerie-en-presence-de-la-realisatrice-lina-soualem/
X-WR-CALDESC:LEUR ALGERIE EN PRÉSENCE DE LA RÉALISATRICE LINA SOUALEM
BEGIN:VEVENT
DTSTART:20210924T203000
DTEND:20210926T193000
SUMMARY:LEUR ALGERIE EN PRÉSENCE DE LA RÉALISATRICE LINA SOUALEM
DESCRIPTION:
LOCATION:cinéma le Rio, Clermont-Ferrand
END:VEVENT
END:VCALENDAR
