BEGIN:VCALENDAR
VERSION:2.0
PRODID:-//Focales
CALSCALE:GREGORIAN
METHOD:PUBLISH
X-WR-CALNAME:Focales
X-ORIGINAL-URL:https://focales.org/ecole-et-cinema-63-lodyssee-de-choum/
X-WR-CALDESC:ECOLE ET CINEMA  63 &#8211; L&rsquo;ODYSSÉE DE CHOUM
BEGIN:VEVENT
DTSTART:20220323T090000
DTEND:20220323T120000
SUMMARY:ECOLE ET CINEMA  63 &#8211; L&rsquo;ODYSSÉE DE CHOUM
DESCRIPTION:
LOCATION:Ciné Dyke
END:VEVENT
END:VCALENDAR
