BEGIN:VCALENDAR
VERSION:2.0
PRODID:-//Focales
CALSCALE:GREGORIAN
METHOD:PUBLISH
X-WR-CALNAME:Focales
X-ORIGINAL-URL:https://focales.org/college-au-cinema-la-tortue-rouge/
X-WR-CALDESC:COLLEGE AU CINEMA &#8211; LA TORTUE ROUGE
BEGIN:VEVENT
DTSTART:20210930T093000
DTEND:20210930T163000
SUMMARY:COLLEGE AU CINEMA &#8211; LA TORTUE ROUGE
DESCRIPTION:
LOCATION:Ciné-Dyke, 4 Place Michelet, 43000 Le Puy-en-Velay
END:VEVENT
END:VCALENDAR
