BEGIN:VCALENDAR
VERSION:2.0
PRODID:-//Focales
CALSCALE:GREGORIAN
METHOD:PUBLISH
X-WR-CALNAME:Focales
X-ORIGINAL-URL:https://focales.org/archives-et-cinema-lissoirienne-une-longue-histoire/
X-WR-CALDESC:ARCHIVES ET CINÉMA-  L&rsquo;ISSOIRIENNE, UNE LONGUE HISTOIRE
BEGIN:VEVENT
DTSTART:20211007T183000
DTEND:20211007T203000
SUMMARY:ARCHIVES ET CINÉMA-  L&rsquo;ISSOIRIENNE, UNE LONGUE HISTOIRE
DESCRIPTION:
LOCATION:Le Strapontin
END:VEVENT
END:VCALENDAR
