BEGIN:VCALENDAR
VERSION:2.0
PRODID:-//Focales
CALSCALE:GREGORIAN
METHOD:PUBLISH
X-WR-CALNAME:Focales
X-ORIGINAL-URL:https://focales.org/rendez-vous-avec-lina-le-cinema-rural-hier-et-aujourdhui/
X-WR-CALDESC:RENDEZ-VOUS AVEC L&rsquo;INA : LE CINÉMA RURAL
BEGIN:VEVENT
DTSTART:20211021T180000
DTEND:20211021T200000
SUMMARY:RENDEZ-VOUS AVEC L&rsquo;INA : LE CINÉMA RURAL
DESCRIPTION:
LOCATION:6, place Michel-de-l'Hospital 63 000 Clermont-Ferrand
END:VEVENT
END:VCALENDAR
