BEGIN:VCALENDAR
VERSION:2.0
PRODID:-//Focales
CALSCALE:GREGORIAN
METHOD:PUBLISH
X-WR-CALNAME:Focales
X-ORIGINAL-URL:https://focales.org/decortiquez-un-court-metrage/
X-WR-CALDESC:DÉCORTIQUEZ UN COURT MÉTRAGE
BEGIN:VEVENT
DTSTART:20211015T000000
DTEND:20211019T000000
SUMMARY:DÉCORTIQUEZ UN COURT MÉTRAGE
DESCRIPTION:
LOCATION:Centre de documentation de La Jetée
END:VEVENT
END:VCALENDAR
