BEGIN:VCALENDAR
VERSION:2.0
PRODID:-//Focales
CALSCALE:GREGORIAN
METHOD:PUBLISH
X-WR-CALNAME:Focales
X-ORIGINAL-URL:https://focales.org/formation-college-au-cinema-puy-de-dome-2/
X-WR-CALDESC:FORMATION COLLEGE AU CINÉMA &#8211; PUY DE DÔME
BEGIN:VEVENT
DTSTART:20211118T090000
DTEND:20211118T170000
SUMMARY:FORMATION COLLEGE AU CINÉMA &#8211; PUY DE DÔME
DESCRIPTION:
LOCATION:la Jetée Clermont-Ferrand
END:VEVENT
END:VCALENDAR
