BEGIN:VCALENDAR
VERSION:2.0
PRODID:-//Focales
CALSCALE:GREGORIAN
METHOD:PUBLISH
X-WR-CALNAME:Focales
X-ORIGINAL-URL:https://focales.org/formation-pro-realiser-des-videos-a-laide-de-son-smartphone/
X-WR-CALDESC:FORMATION PRO RÉALISER DES VIDÉOS A L&rsquo;AIDE DE SON SMARTPHONE
BEGIN:VEVENT
DTSTART:20220516T090000
DTEND:20220517T170000
SUMMARY:FORMATION PRO RÉALISER DES VIDÉOS A L&rsquo;AIDE DE SON SMARTPHONE
DESCRIPTION:
LOCATION:Clermont-Ferrand
END:VEVENT
END:VCALENDAR
