BEGIN:VCALENDAR
VERSION:2.0
PRODID:-//Focales
CALSCALE:GREGORIAN
METHOD:PUBLISH
X-WR-CALNAME:Focales
X-ORIGINAL-URL:https://focales.org/masterclass-cadrer-lincadrable-par-cedric-klapisch/
X-WR-CALDESC:Masterclass &#8211; Cadrer l’incadrable par Cédric Klapisch
BEGIN:VEVENT
DTSTART:20211116T143000
DTEND:20211116T160000
SUMMARY:Masterclass &#8211; Cadrer l’incadrable par Cédric Klapisch
DESCRIPTION:
LOCATION:
END:VEVENT
END:VCALENDAR
