BEGIN:VCALENDAR
VERSION:2.0
PRODID:-//Focales
CALSCALE:GREGORIAN
METHOD:PUBLISH
X-WR-CALNAME:Focales
X-ORIGINAL-URL:https://focales.org/projections-pour-les-10-ans-de-numeridanse/
X-WR-CALDESC:PROJECTIONS POUR LES 10 ANS DE NUMÉRIDANSE
BEGIN:VEVENT
DTSTART:20211111T000000
DTEND:20211116T000000
SUMMARY:PROJECTIONS POUR LES 10 ANS DE NUMÉRIDANSE
DESCRIPTION:
LOCATION:la Jetée Clermont-Ferrand
END:VEVENT
END:VCALENDAR
