BEGIN:VCALENDAR
VERSION:2.0
PRODID:-//Focales
CALSCALE:GREGORIAN
METHOD:PUBLISH
X-WR-CALNAME:Focales
X-ORIGINAL-URL:https://focales.org/rencontre-nationale-des-poles-202/
X-WR-CALDESC:RENCONTRE NATIONALE DES PÔLES 2022
BEGIN:VEVENT
DTSTART:20220131T140000
DTEND:20220201T170000
SUMMARY:RENCONTRE NATIONALE DES PÔLES 2022
DESCRIPTION:
LOCATION:Clermont-Ferrand, La Jetée
END:VEVENT
END:VCALENDAR
