BEGIN:VCALENDAR
VERSION:2.0
PRODID:-//Focales
CALSCALE:GREGORIAN
METHOD:PUBLISH
X-WR-CALNAME:Focales
X-ORIGINAL-URL:https://focales.org/seance-scolaire-2022/
X-WR-CALDESC:SÉANCE SCOLAIRE 2022
BEGIN:VEVENT
DTSTART:20220131T093000
DTEND:20220204T113000
SUMMARY:SÉANCE SCOLAIRE 2022
DESCRIPTION:
LOCATION:
END:VEVENT
END:VCALENDAR
