BEGIN:VCALENDAR
VERSION:2.0
PRODID:-//Focales
CALSCALE:GREGORIAN
METHOD:PUBLISH
X-WR-CALNAME:Focales
X-ORIGINAL-URL:https://focales.org/24eme-concours-de-la-jeune-critique-cinematographique/
X-WR-CALDESC:24ème CONCOURS DE LA JEUNE CRITIQUE CINÉMATOGRAPHIQUE
BEGIN:VEVENT
DTSTART:20220131T090000
DTEND:20220204T000000
SUMMARY:24ème CONCOURS DE LA JEUNE CRITIQUE CINÉMATOGRAPHIQUE
DESCRIPTION:
LOCATION:
END:VEVENT
END:VCALENDAR
