BEGIN:VCALENDAR
VERSION:2.0
PRODID:-//Focales
CALSCALE:GREGORIAN
METHOD:PUBLISH
X-WR-CALNAME:Focales
X-ORIGINAL-URL:https://focales.org/concours-filme-nous-la-comte-2022/
X-WR-CALDESC:CONCOURS FILME NOUS LA COMTÉ 2022
BEGIN:VEVENT
DTSTART:20180129T000000
DTEND:20220212T000000
SUMMARY:CONCOURS FILME NOUS LA COMTÉ 2022
DESCRIPTION:
LOCATION:
END:VEVENT
END:VCALENDAR
